BEGIN:VCALENDAR
VERSION:2.0
PRODID:-//wp-events-plugin.com//7.2.3.1//EN
TZID:Europe/Vienna
X-WR-TIMEZONE:Europe/Vienna
BEGIN:VEVENT
UID:46@biblische-figuren.at
DTSTART;TZID=Europe/Vienna:20261023T160000
DTEND;TZID=Europe/Vienna:20261025T160000
DTSTAMP:20260114T090348Z
URL:https://www.biblische-figuren.at/termine/werkkurs-biblische-figuren-pe
 rnegg/
SUMMARY:Werkkurs Biblische Figuren - Pernegg
DESCRIPTION:
CATEGORIES:Werkkurs Biblische Figuren
LOCATION:Pernegg\, Kirchplatz 1\, Pernegg an der Mur\, Steiermark\, 8132 \,
  Österreich
X-APPLE-STRUCTURED-LOCATION;VALUE=URI;X-ADDRESS=Kirchplatz 1\, Pernegg an d
 er Mur\, Steiermark\, 8132 \, Österreich;X-APPLE-RADIUS=100;X-TITLE=Perne
 gg:geo:0,0
END:VEVENT
BEGIN:VTIMEZONE
TZID:Europe/Vienna
X-LIC-LOCATION:Europe/Vienna
BEGIN:DAYLIGHT
DTSTART:20260329T030000
TZOFFSETFROM:+0100
TZOFFSETTO:+0200
TZNAME:CEST
END:DAYLIGHT
BEGIN:STANDARD
DTSTART:20261025T020000
TZOFFSETFROM:+0200
TZOFFSETTO:+0100
TZNAME:CET
END:STANDARD
END:VTIMEZONE
END:VCALENDAR