BEGIN:VCALENDAR
VERSION:2.0
PRODID:-//wp-events-plugin.com//7.2.3.1//EN
TZID:Europe/Vienna
X-WR-TIMEZONE:Europe/Vienna
BEGIN:VEVENT
UID:24@biblische-figuren.at
DTSTART;TZID=Europe/Vienna:20241116T150000
DTEND;TZID=Europe/Vienna:20241116T190000
DTSTAMP:20241023T090730Z
URL:https://www.biblische-figuren.at/termine/ganzheitlich-kreativer-bibeln
 achmittag-wien-2/
SUMMARY:Ganzheitlich kreativer Bibelnachmittag - Wien
DESCRIPTION:Thema: Tamar\n\n\n\n
CATEGORIES:Bibelarbeit
LOCATION:Wien - Namen Jesu\, Schedifkaplatz 3\, Wien\, 1120\, Österreich
X-APPLE-STRUCTURED-LOCATION;VALUE=URI;X-ADDRESS=Schedifkaplatz 3\, Wien\, 1
 120\, Österreich;X-APPLE-RADIUS=100;X-TITLE=Wien - Namen Jesu:geo:0,0
END:VEVENT
BEGIN:VTIMEZONE
TZID:Europe/Vienna
X-LIC-LOCATION:Europe/Vienna
BEGIN:STANDARD
DTSTART:20241027T020000
TZOFFSETFROM:+0200
TZOFFSETTO:+0100
TZNAME:CET
END:STANDARD
END:VTIMEZONE
END:VCALENDAR